BEGIN:VCALENDAR
VERSION:2.0
PRODID:-//ChamberMaster//Event Calendar 2.0//EN
METHOD:PUBLISH
X-PUBLISHED-TTL:P3D
REFRESH-INTERVAL:P3D
CALSCALE:GREGORIAN
BEGIN:VEVENT
DTSTART:20251014T154500Z
DTEND:20251014T171500Z
X-MICROSOFT-CDO-ALLDAYEVENT:FALSE
SUMMARY:2025 Lunch & Learn Networking - Oct
DESCRIPTION:Join us for our Monthly Lunch & Learn to expand your network & grow your brand!  Connect with other Chamber members and area professionals for targeted networking\, referrals\, and lunch.
X-ALT-DESC;FMTTYPE=text/html:<span style="color: rgb(0\, 0\, 0)\; font-family: arial\; font-size: 16px\;">Join us for our Monthly Lunch &amp\; Learn to expand your network &amp\; grow your brand!&nbsp\; Connect with other Chamber members&nbsp\;and area professionals for targeted networking\, referrals\, and lunch.&nbsp\;</span><br />\n&nbsp\;
LOCATION:We are a Technology Solutions Provider located in Londonderry\, NH. We work in all size businesses\, specializing in small businesses that need help with the best fit or solutions for their business. From the beginning\, we aligned ourselves as a premier provider of solutions for Xerox Corporation but have expanded our offerings based on customer requests. Hardware solutions are not just limited to copiers\, fax machines\, printers\, and scanners\; but we also offer wide format printers and FP Mailing solutions. Finishing equipment includes folders\, inserters\, and binding equipment. Services include scanning\, document management\, IT services plus space planning\, interior design\, and office furniture. Most recently with the hot topic of AI\, we are actively developing solutions for workflow automation\, digital capture\, intelligent document processing\, and robotics process automation really exciting\, innovative and business-changing solutions. We come highly rated\, highly recommended\, and I'm sure our new digital services and workflow automation will blow your mind! Please do not miss our first ever lunch and learn with the Greater Derry/Londonderry Chamber of Commerce. We hope to see you there! Lunch will be catered\, more details to follow! Our topic of discussion: Our Focus\, Workflow Automation- Streamlining the way you do business! We will talk about the software solutions we currently use for automating workflows inside of organizations we work with here at Benchmark. We will open up the floor for peer-to-peer conversations about data entry intense processes\, moving data from one system into another through our digital services offerings\, and make it all make sense to everyone in the group. We will delve a little into other products and services we have to offer here at Benchmark.
UID:e.2241.20981
SEQUENCE:3
DTSTAMP:20260421T003237Z
URL:http://derry-chamber.chambermaster.com/events/details/2025-lunch-learn-networking-oct-20981
END:VEVENT

END:VCALENDAR
