BEGIN:VCALENDAR
VERSION:2.0
PRODID:-//ChamberMaster//Event Calendar 2.0//EN
METHOD:PUBLISH
X-PUBLISHED-TTL:P3D
REFRESH-INTERVAL:P3D
CALSCALE:GREGORIAN
BEGIN:VEVENT
DTSTART:20250513T154500Z
DTEND:20250513T171500Z
X-MICROSOFT-CDO-ALLDAYEVENT:FALSE
SUMMARY:2025 Lunch & Learn Networking - May
DESCRIPTION:Join us for our Monthly Lunch & Learn to expand your network & grow your brand!  Connect with other Chamber members and area professionals for targeted networking\, referrals\, and lunch. \n\n\n\nLunch provided by Sal's Pizza.
X-ALT-DESC;FMTTYPE=text/html:<span style="color: rgb(0\, 0\, 0)\; font-family: arial\; font-size: 16px\;">Join us for our Monthly Lunch &amp\; Learn to expand your network &amp\; grow your brand!&nbsp\; Connect with other Chamber members&nbsp\;and area professionals for targeted networking\, referrals\, and lunch.&nbsp\;<br />\n<br />\nLunch provided by Sal&#39\;s Pizza.</span>
LOCATION:
UID:e.2241.20976
SEQUENCE:3
DTSTAMP:20260423T165314Z
URL:http://derry-chamber.chambermaster.com/events/details/2025-lunch-learn-networking-may-20976
END:VEVENT

END:VCALENDAR
